BEGIN:VCALENDAR
VERSION:2.0
PRODID:-//Capodanno Versilia 2027 - Sito Ufficiale - ECPv6.15.20//NONSGML v1.0//EN
CALSCALE:GREGORIAN
METHOD:PUBLISH
X-ORIGINAL-URL:https://www.capodannoinversilia.it
X-WR-CALDESC:Eventi per Capodanno Versilia 2027 - Sito Ufficiale
REFRESH-INTERVAL;VALUE=DURATION:PT1H
X-Robots-Tag:noindex
X-PUBLISHED-TTL:PT1H
BEGIN:VTIMEZONE
TZID:Europe/Rome
BEGIN:DAYLIGHT
TZOFFSETFROM:+0100
TZOFFSETTO:+0200
TZNAME:CEST
DTSTART:20220327T010000
END:DAYLIGHT
BEGIN:STANDARD
TZOFFSETFROM:+0200
TZOFFSETTO:+0100
TZNAME:CET
DTSTART:20221030T010000
END:STANDARD
BEGIN:DAYLIGHT
TZOFFSETFROM:+0100
TZOFFSETTO:+0200
TZNAME:CEST
DTSTART:20230326T010000
END:DAYLIGHT
BEGIN:STANDARD
TZOFFSETFROM:+0200
TZOFFSETTO:+0100
TZNAME:CET
DTSTART:20231029T010000
END:STANDARD
BEGIN:DAYLIGHT
TZOFFSETFROM:+0100
TZOFFSETTO:+0200
TZNAME:CEST
DTSTART:20240331T010000
END:DAYLIGHT
BEGIN:STANDARD
TZOFFSETFROM:+0200
TZOFFSETTO:+0100
TZNAME:CET
DTSTART:20241027T010000
END:STANDARD
BEGIN:DAYLIGHT
TZOFFSETFROM:+0100
TZOFFSETTO:+0200
TZNAME:CEST
DTSTART:20250330T010000
END:DAYLIGHT
BEGIN:STANDARD
TZOFFSETFROM:+0200
TZOFFSETTO:+0100
TZNAME:CET
DTSTART:20251026T010000
END:STANDARD
END:VTIMEZONE
BEGIN:VEVENT
DTSTART;TZID=Europe/Rome:20231231T203000
DTEND;TZID=Europe/Rome:20240101T050000
DTSTAMP:20260420T182004
CREATED:20231026T195609Z
LAST-MODIFIED:20231102T203133Z
UID:4152-1704054600-1704085200@www.capodannoinversilia.it
SUMMARY:Capodanno 2024 Leblon
DESCRIPTION:[vc_row][vc_column][vc_column_text]Main Room:Evento in Prevendita[/vc_column_text][vc_empty_space height=”62px”][vc_column_text] \nCapodanno a Viareggio\nDiscoteca & Churrascaria Leblon\n\nDomenica 31 Dicembre 2023\nCapodanno 2024 Leblon\n[/vc_column_text][vc_column_text el_class=”testo-eventi”] \n\nPROGRAMMA \nh20.30 Cenone di Capodanno\nh23.30 Start Party \nRiservato ad un Pubblico Adulto \n\nARTISTICO \nMainroom\nResident Dj \n\n[/vc_column_text][vc_column_text]PREVENDITE (su prenotazione) \n\nAll inclusive cenone + tavolo per tutta la notte con bottiglia/e 130€/persona\nCenone + Ingresso 90€/persona\nTavolo dopocena 50€\n\n\nMENU CENONE CAPODANNO\n•Bocconcino di Orata al Sale in Riduzione di Erbe Aromatiche\n•Scampo Nostrale alla Catalana\n•Crespella Ricotta Spinaci e Speck Croccante \n•Paccheri all’Astice\n•Risotto all’Amarone e Fonduna di Castelmagno \n•Trancio di Dentice Reale su Letto di Radicchio Rosso e Verdure Caramellate\n•La Tagliata di Chianina con Patate Arrosto e Finocchi Saltati al Burro \n• La Voglia del Tiramisù: Soave Crema al Mascarpone Accompagnata dalle Lingue di Gatto della Pasticceria Slitti \n• Vino incluso (una bottiglia ogni 3 persone) \nVino extra:\n25€ bianco\n30€ prosecco \n\n[/vc_column_text][vc_cta h2=”Prenotazioni Capodanno Leblon” h4=”Chiama\, Whatsapp o Scrivi” style=”outline” color=”green”]Prenota Subito al\n+39 393 00 77 359 Stefano\nScrivici Ora su Whatsapp[/vc_cta][/vc_column][/vc_row]
URL:https://www.capodannoinversilia.it/evento/capodanno-2024-leblon-viareggio/
LOCATION:Leblon\, Viale Europa 15\, Viareggio\, Lucca\, 55049\, Italia
CATEGORIES:Capodanno,Leblon
ATTACH;FMTTYPE=image/jpeg:https://www.capodannoinversilia.it/wp-content/uploads/2023/10/capodanno-2024-leblon-viareggio-darsena.jpg
END:VEVENT
END:VCALENDAR